Workbook
Name \0: #REF!
Name page\x2dtotal: #REF!
Name page\x2dtotal\x2dmaster0: #REF!

Sheet ROA
B1: Note: Please find your department below. If your department is not listed below, please add a table to report your balances.
B3: Governmental Activities
C5: Balance at October 1, 2025 | D5: Additions | E5: Deductions | F5: Balance at September 30, 2026
B6: Buildings | C6: 180272 | F6: =SUM(C6:E6) -> 180272
B7: Equipment | C7: 2630 | F7: =SUM(C7:E7) -> 2630
B8: Vehicle | C8: 0 | F8: 0
B9: Total right to use lease assets | C9: {=SUM(ROUND(C6:C8,0))} -> 182902 | D9: {=SUM(ROUND(D6:D8,0))} -> 0 | E9: {=SUM(ROUND(E6:E8,0))} -> 0 | F9: {=SUM(ROUND(F6:F8,0))} -> 182902
B11: Less accumulated amortization
B12: Buildings | C12: -40526 | F12: =SUM(C12:E12) -> -40526
B13: Equipment | C13: -1229 | F13: =SUM(C13:E13) -> -1229
B14: Vehicle | C14: 0 | F14: =SUM(C14:E14) -> 0
B15: Total accumulated amortization | C15: {=SUM(ROUND(C12:C14,0))} -> -41755 | D15: {=SUM(ROUND(D12:D14,0))} -> 0 | E15: {=SUM(ROUND(E12:E14,0))} -> 0 | F15: {=SUM(ROUND(F12:F14,0))} -> -41755
B16: Total right to use lease assets, net | C16: =+C9+C15 -> 141147 | D16: =+D9+D15 -> 0 | E16: =+E9+E15 -> 0 | F16: =+F9+F15 -> 141147
B18: Business-type Activities
C20: Balance at October 1, 2025 | D20: Additions | E20: Deductions | F20: Adjustments | G20: Balance at September 30, 2026
B21: Land | C21: 330 | G21: =SUM(C21:F21) -> 330
B22: Buildings | C22: 75530 | G22: =SUM(C22:F22) -> 75530
B23: Equipment | C23: 30902 | G23: =SUM(C23:F23) -> 30902
B24: Total right to use lease assets | C24: {=SUM(ROUND(C21:C23,0))} -> 106762 | D24: {=SUM(ROUND(D21:D23,0))} -> 0 | E24: {=SUM(ROUND(E21:E23,0))} -> 0 | F24: {=SUM(ROUND(F21:F23,0))} -> 0 | G24: {=SUM(ROUND(G21:G23,0))} -> 106762
B26: Less accumulated amortization
B27: Land | C27: -193 | G27: =SUM(C27:F27) -> -193
B28: Buildings | C28: -21814 | G28: =SUM(C28:F28) -> -21814
B29: Equipment | C29: -7678 | G29: =SUM(C29:F29) -> -7678
B30: Total accumulated amortization | C30: {=SUM(ROUND(C27:C29,0))} -> -29685 | D30: {=SUM(ROUND(D27:D29,0))} -> 0 | E30: {=SUM(ROUND(E27:E29,0))} -> 0 | F30: {=SUM(ROUND(F27:F29,0))} -> 0 | G30: {=SUM(ROUND(G27:G29,0))} -> -29685
B31: Total right to use lease assets, net | C31: =+C24+C30 -> 77077 | D31: =+D24+D30 -> 0 | E31: =+E24+E30 -> 0 | F31: =+F24+F30 -> 0 | G31: =+G24+G30 -> 77077
B33: Business-type Activities - Transit
C34: Balance at October 1, 2025 | D34: Additions | E34: Deductions | F34: Adjustments | G34: Balance at September 30, 2026
B35: Land | C35: 330 | G35: =SUM(C35:F35) -> 330
B36: Buildings | C36: 0 | G36: =SUM(C36:F36) -> 0
B37: Equipment | C37: 0 | G37: =SUM(C37:F37) -> 0
B38: Total lease assets | C38: =SUM(C35:C37) -> 330 | D38: =SUM(D35:D37) -> 0 | E38: =SUM(E35:E37) -> 0 | F38: =SUM(F35:F37) -> 0 | G38: =SUM(G35:G37) -> 330
B40: Less accumulated amortization
B41: Land | C41: -193 | G41: =SUM(C41:F41) -> -193
B42: Buildings | C42: 0 | G42: =SUM(C42:F42) -> 0
B43: Equipment | C43: 0 | G43: =SUM(C43:F43) -> 0
B44: Total accumulated amortization | C44: =SUM(C41:C43) -> -193 | D44: =SUM(D41:D43) -> 0 | E44: =SUM(E41:E43) -> 0 | F44: =SUM(F41:F43) -> 0 | G44: =SUM(G41:G43) -> -193
B45: Total lease assets, net | C45: =+C38+C44 -> 137 | D45: =+D38+D44 -> 0 | E45: =+E38+E44 -> 0 | F45: =+F38+F44 -> 0 | G45: =+G38+G44 -> 137
B47: Business-types Activities - Solid Waste
C48: Balance at October 1, 2025 | D48: Additions | E48: Deductions | F48: Adjustments | G48: Balance at September 30, 2026
B49: Buildings | C49: 2019 | G49: =SUM(C49:E49) -> 2019
...

Sheet Lease liability
B1: Note: Please find your department below. If your department is not listed below, please add a table to report your balances.
B3: Governmental Activities
C4: Balance at October 1, 2025 | D4: Additions | E4: Deductions | F4: Balance at September 30, 2026 | G4: Amount due within one year
B5: Buildings | C5: 145653 | F5: =+C5+D5+E5 -> 145653
B6: Equipment | C6: 1430 | F6: =+C6+D6+E6 -> 1430
B7: Vehicles | C7: 0 | F7: =+C7+D7+E7 -> 0
B8: Total lease liabilities | C8: {=SUM(ROUND(C5:C7,0))} -> 147083 | D8: {=SUM(ROUND(D5:D7,0))} -> 0 | E8: {=SUM(ROUND(E5:E7,0))} -> 0 | F8: {=SUM(ROUND(F5:F7,0))} -> 147083 | G8: {=SUM(ROUND(G5:G7,0))} -> 0
B11: Business-type Activities
C12: Balance at October 1, 2025 | D12: Additions | E12: Deductions | F12: Balance at September 30, 2026 | G12: Amount due within one year
B13: Land | C13: =C21+C29+C37+C45+C53+C61+C69 -> 193 | F13: =SUM(C13:E13) -> 193
B14: Buildings | C14: =C22+C30+C38+C46+C54+C62+C70 -> 58629 | F14: =SUM(C14:E14) -> 58629
B15: Equipment | C15: =C23+C31+C39+C47+C55+C63+C71 -> 23235 | F15: =SUM(C15:E15) -> 23235
B16: Total lease liabilities | C16: {=SUM(ROUND(C13:C15,0))} -> 82057 | D16: {=SUM(ROUND(D13:D15,0))} -> 0 | E16: {=SUM(ROUND(E13:E15,0))} -> 0 | F16: {=SUM(ROUND(F13:F15,0))} -> 82057 | G16: {=SUM(ROUND(G13:G15,0))} -> 0
B19: Business-type Activities-Transit
C20: Balance at October 1, 2025 | D20: Additions | E20: Deductions | F20: Balance at September 30, 2026 | G20: Amount due within one year
B21: Land | C21: 193 | F21: =SUM(C21:E21) -> 193
B22: Buildings | C22: 0 | F22: =SUM(C22:E22) -> 0
B23: Equipment | C23: 0 | F23: =SUM(C23:E23) -> 0
B24: Total lease liabilities | C24: =SUM(C21:C23) -> 193 | D24: =SUM(D21:D23) -> 0 | E24: =SUM(E21:E23) -> 0 | F24: =SUM(F21:F23) -> 193 | G24: =SUM(G21:G23) -> 0
B27: Business-type Activities-Solid Waste
C28: Balance at October 1, 2025 | D28: Additions | E28: Deductions | F28: Balance at September 30, 2026 | G28: Amount due within one year
B29: Land | C29: 0 | F29: =SUM(C29:E29) -> 0
B30: Buildings | C30: 0 | F30: =SUM(C30:E30) -> 0
B31: Equipment | C31: 0 | F31: =SUM(C31:E31) -> 0
B32: Total lease liabilities | C32: =SUM(C29:C31) -> 0 | D32: =SUM(D29:D31) -> 0 | E32: =SUM(E29:E31) -> 0 | F32: =SUM(F29:F31) -> 0 | G32: =SUM(G29:G31) -> 0
B35: Business-type Activities-Seaport
C36: Balance at October 1, 2025 | D36: Additions | E36: Deductions | F36: Balance at September 30, 2026 | G36: Amount due within one year
B37: Land | C37: 0 | F37: =SUM(C37:E37) -> 0
B38: Buildings | C38: 2434 | F38: =SUM(C38:E38) -> 2434
B39: Equipment | C39: 0 | F39: =SUM(C39:E39) -> 0
B40: Total lease liabilities | C40: =SUM(C37:C39) -> 2434 | D40: =SUM(D37:D39) -> 0 | E40: =SUM(E37:E39) -> 0 | F40: =SUM(F37:F39) -> 2434 | G40: =SUM(G37:G39) -> 0
B43: Business-type Activities-Aviation
C44: Balance at October 1, 2025 | D44: Additions | E44: Deductions | F44: Balance at September 30, 2026 | G44: Amount due within one year
B45: Land | C45: 0 | F45: =SUM(C45:E45) -> 0
B46: Buildings | C46: 5710 | F46: =SUM(C46:E46) -> 5710
B47: Equipment | C47: 0 | F47: =SUM(C47:E47) -> 0
B48: Total lease liabilities | C48: =SUM(C45:C47) -> 5710 | D48: =SUM(D45:D47) -> 0 | E48: =SUM(E45:E47) -> 0 | F48: =SUM(F45:F47) -> 5710 | G48: =SUM(G45:G47) -> 0
B51: Business-type Activities-WASD
C52: Balance at October 1, 2025 | D52: Additions | E52: Deductions | F52: Balance at September 30, 2026 | G52: Amount due within one year
B53: Land | C53: 0 | F53: =SUM(C53:E53) -> 0
...

Sheet Future lease pymt
B1: Note: Please find your department below. If your department is not listed below, please add a table to report your balances.
B3: Governmental Activities
C4: Principal | D4: Interest | E4: Total
B5: Year ending September 30,
B6: 2027 | E6: =SUM(C6:D6) -> 0
B7: 2028 | E7: =SUM(C7:D7) -> 0
B8: 2029 | E8: =SUM(C8:D8) -> 0
B9: 2030 | E9: =SUM(C9:D9) -> 0
B10: 2031 | E10: =SUM(C10:D10) -> 0
B11: 2032-2036 | E11: =SUM(C11:D11) -> 0
B12: 2037-2041 | E12: =SUM(C12:D12) -> 0
B13: 2042-2046 | E13: =SUM(C13:D13) -> 0
C14: {=SUM(ROUND(C6:C13,0))} -> 0 | D14: {=SUM(ROUND(D6:D13,0))} -> 0 | E14: {=SUM(ROUND(E6:E13,0))} -> 0
B16: Governmental Activities
C17: Principal | D17: Interest | E17: Total
B18: Year ending September 30,
B19: 2027 | E19: =SUM(C19:D19) -> 0
B20: 2028 | E20: =SUM(C20:D20) -> 0
B21: 2029 | E21: =SUM(C21:D21) -> 0
B22: 2030 | E22: =SUM(C22:D22) -> 0
B23: 2031 | E23: =SUM(C23:D23) -> 0
B24: 2032-2036 | E24: =SUM(C24:D24) -> 0
B25: 2037-2041 | E25: =SUM(C25:D25) -> 0
B26: 2042-2046 | E26: =SUM(C26:D26) -> 0
C27: {=SUM(ROUND(C19:C26,0))} -> 0 | D27: {=SUM(ROUND(D19:D26,0))} -> 0 | E27: {=SUM(ROUND(E19:E26,0))} -> 0
B30: Business-type Activities
C31: Principal | D31: Interest | E31: Total
B32: Year ending September 30,
B33: 2027 | E33: =SUM(C33:D33) -> 0
B34: 2028 | E34: =SUM(C34:D34) -> 0
B35: 2029 | E35: =SUM(C35:D35) -> 0
B36: 2030 | E36: =SUM(C36:D36) -> 0
B37: 2031 | E37: =SUM(C37:D37) -> 0
B38: 2032-2036 | E38: =SUM(C38:D38) -> 0
B39: 2037-2041 | E39: =SUM(C39:D39) -> 0
B40: 2042-2046 | E40: =SUM(C40:D40) -> 0
C41: {=SUM(ROUND(C33:C40,0))} -> 0 | D41: {=SUM(ROUND(D33:D40,0))} -> 0 | E41: {=SUM(ROUND(E33:E40,0))} -> 0
B44: Business-type Activities-Transit
C45: Principal | D45: Interest | E45: Total
B46: Year ending September 30,
...

Sheet Lease receivable
A1: Govermental Activities | B1: Note: Please find your department below. If your department is not listed below, please add a table to report your balances.
B3: Govermental Activities
C4: Balance at October 1, 2025 | D4: Additions | E4: Deductions | F4: Balance at September 30, 2026 | G4: Amount due within one year
B5: Land | C5: 1101 | F5: =+C5+D5+E5 -> 1101
B6: Buildings | C6: 92396 | D6: 0 | F6: =+C6+D6+E6 -> 92396
B7: Total lease receivables | C7: {=SUM(ROUND(C5:C6,0))} -> 93497 | D7: {=SUM(ROUND(D5:D6,0))} -> 0 | E7: {=SUM(ROUND(E5:E6,0))} -> 0 | F7: {=SUM(ROUND(F5:F6,0))} -> 93497 | G7: {=SUM(ROUND(G5:G6,0))} -> 0
B10: Business-type Activities
C12: Balance at October 1, 2025 | D12: Additions | E12: Deductions | F12: Balance at September 30, 2026 | G12: Amount due within one year
B13: Land | C13: =C22+C29+C37+C45+C53+C61+C69 -> 347051 | F13: =+C13+D13+E13 -> 347051
B14: Buildings | C14: =C23+C30+C38+C46+C54+C62+C70 -> 807229 | F14: =+C14+D14+E14 -> 807229
B15: Total lease receivables | C15: {=SUM(ROUND(C13:C14,0))} -> 1154280 | D15: {=SUM(ROUND(D13:D14,0))} -> 0 | E15: {=SUM(ROUND(E13:E14,0))} -> 0 | F15: {=SUM(ROUND(F13:F14,0))} -> 1154280 | G15: {=SUM(ROUND(G13:G14,0))} -> 0
B19: Business-type Activities-Transit
C21: Balance at October 1, 2025 | D21: Additions | E21: Deductions | F21: Balance at September 30, 2026 | G21: Amount due within one year
B22: Land | C22: 118242 | F22: =+C22+D22+E22 -> 118242
B23: Buildings | C23: 0 | F23: =+C23+D23+E23 -> 0
B24: Total lease receivables | C24: =SUM(C22:C23) -> 118242 | D24: =SUM(D22:D23) -> 0 | E24: =SUM(E22:E23) -> 0 | F24: =SUM(F22:F23) -> 118242 | G24: =SUM(G22:G23) -> 0
B26: Business-type Activities-Solid Waste
C28: Balance at October 1, 2025 | D28: Additions | E28: Deductions | F28: Balance at September 30, 2026 | G28: Amount due within one year
B29: Land | C29: 1434 | F29: =+C29+D29+E29 -> 1434
B30: Buildings | F30: =+C30+D30+E30 -> 0
B31: Total lease receivables | C31: =SUM(C29:C30) -> 1434 | D31: =SUM(D29:D30) -> 0 | E31: =SUM(E29:E30) -> 0 | F31: =SUM(F29:F30) -> 1434 | G31: =SUM(G29:G30) -> 0
B34: Business-type Activities-Seaport
C36: Balance at October 1, 2025 | D36: Additions | E36: Deductions | F36: Balance at September 30, 2026 | G36: Amount due within one year
B37: Land | C37: 1181 | F37: =+C37+D37+E37 -> 1181
B38: Buildings | C38: 766392 | F38: =+C38+D38+E38 -> 766392
B39: Total lease receivables | C39: =SUM(C37:C38) -> 767573 | D39: =SUM(D37:D38) -> 0 | E39: =SUM(E37:E38) -> 0 | F39: =SUM(F37:F38) -> 767573 | G39: =SUM(G37:G38) -> 0
B42: Business-type Activities-Aviation
C44: Balance at October 1, 2025 | D44: Additions | E44: Deductions | F44: Balance at September 30, 2026 | G44: Amount due within one year
B45: Land | C45: 225733 | F45: =+C45+D45+E45 -> 225733
B46: Buildings | C46: 30280 | F46: =+C46+D46+E46 -> 30280
B47: Total lease receivables | C47: =SUM(C45:C46) -> 256013 | D47: =SUM(D45:D46) -> 0 | E47: =SUM(E45:E46) -> 0 | F47: =SUM(F45:F46) -> 256013 | G47: =SUM(G45:G46) -> 0
B50: Business-type Activities-WASD
C52: Balance at October 1, 2025 | D52: Additions | E52: Deductions | F52: Balance at September 30, 2026 | G52: Amount due within one year
B53: Land | F53: =+C53+D53+E53 -> 0
B54: Buildings | F54: =+C54+D54+E54 -> 0
B55: Total lease receivables | C55: =SUM(C53:C54) -> 0 | D55: =SUM(D53:D54) -> 0 | E55: =SUM(E53:E54) -> 0 | F55: =SUM(F53:F54) -> 0 | G55: =SUM(G53:G54) -> 0
B58: Business-type Activities-PHT
C60: Balance at October 1, 2025 | D60: Additions | E60: Deductions | F60: Balance at September 30, 2026 | G60: Amount due within one year
B61: Land | C61: 0 | F61: =+C61+D61+E61 -> 0
B62: Buildings | C62: 10557 | F62: =+C62+D62+E62 -> 10557
...

Sheet Deferred inflows
B1: Note: Please find your department below. If your department is not listed below, please add a table to report your balances.
B3: Govermental Activities
C4: Balance at October 1, 2025 | D4: Additions | E4: Deductions | F4: Balance at September 30, 2026
B5: Land | C5: 1100 | D5: 0 | F5: =+C5+D5-E5 -> 1100
B6: Buildings | C6: 88569 | D6: 0 | F6: =+C6+D6-E6 -> 88569
B7: Total deferred inflows | C7: {=SUM(ROUND(C5:C6,0))} -> 89669 | D7: {=SUM(ROUND(D5:D6,0))} -> 0 | E7: {=SUM(ROUND(E5:E6,0))} -> 0 | F7: {=SUM(ROUND(F5:F6,0))} -> 89669
B11: Business-type Activities
C12: Balance at October 1, 2025 | D12: Additions | E12: Deductions | F12: Balance at September 30, 2026
B13: Land | C13: =C20+C27+C34+C41+C48+C55+C62 -> 347956 | D13: =D20+D27+D34+D41+D48+D55+D62 -> 0 | E13: =E20+E27+E34+E41+E48+E55+E62 -> 0 | F13: =+C13+D13+E13 -> 347956
B14: Buildings | C14: =C21+C28+C35+C42+C49+C56+C63 -> 779456 | D14: =D21+D28+D35+D42+D49+D56+D63 -> 0 | E14: =E21+E28+E35+E42+E49+E56+E63 -> 0 | F14: =+C14+D14+E14 -> 779456
B15: Total deferred inflows | C15: {=SUM(ROUND(C13:C14,0))} -> 1127412 | D15: {=SUM(ROUND(D13:D14,0))} -> 0 | E15: {=SUM(ROUND(E13:E14,0))} -> 0 | F15: {=SUM(ROUND(F13:F14,0))} -> 1127412
C17: =+SUM(C13:C14)-C15 -> 0 | D17: =+SUM(D13:D14)-D15 -> 0 | E17: =+SUM(E13:E14)-E15 -> 0 | F17: =+SUM(F13:F14)-F15 -> 0
B18: Business-type Activities-Transit
C19: Balance at October 1, 2025 | D19: Additions | E19: Deductions | F19: Balance at September 30, 2026
B20: Land | C20: 126136 | F20: =+C20+D20+E20 -> 126136
B21: Buildings | C21: 0 | F21: =+C21+D21+E21 -> 0
B22: Total deferred inflows | C22: =SUM(C20:C21) -> 126136 | D22: =SUM(D20:D21) -> 0 | E22: =SUM(E20:E21) -> 0 | F22: =SUM(F20:F21) -> 126136
B25: Business-type Activities-Solid Waste
C26: Balance at October 1, 2025 | D26: Additions | E26: Deductions | F26: Balance at September 30, 2026
B27: Land | C27: 1395 | F27: =+C27+D27+E27 -> 1395
B28: Buildings | C28: 0 | F28: =+C28+D28+E28 -> 0
B29: Total deferred inflows | C29: =SUM(C27:C28) -> 1395 | D29: =SUM(D27:D28) -> 0 | E29: =SUM(E27:E28) -> 0 | F29: =SUM(F27:F28) -> 1395
B32: Business-type Activities-Seaport
C33: Balance at October 1, 2025 | D33: Additions | E33: Deductions | F33: Balance at September 30, 2026
B34: Land | C34: 1399 | F34: =+C34+D34+E34 -> 1399
B35: Buildings | C35: 720281 | F35: =+C35+D35+E35 -> 720281
B36: Total deferred inflows | C36: =SUM(C34:C35) -> 721680 | D36: =SUM(D34:D35) -> 0 | E36: =SUM(E34:E35) -> 0 | F36: =SUM(F34:F35) -> 721680
B39: Business-type Activities-Aviation
C40: Balance at October 1, 2025 | D40: Additions | E40: Deductions | F40: Balance at September 30, 2026
B41: Land | C41: 218529 | F41: =+C41+D41+E41 -> 218529
B42: Buildings | C42: 26523 | F42: =+C42+D42+E42 -> 26523
B43: Total deferred inflows | C43: =SUM(C41:C42) -> 245052 | D43: =SUM(D41:D42) -> 0 | E43: =SUM(E41:E42) -> 0 | F43: =SUM(F41:F42) -> 245052
B46: Business-type Activities-WASD
C47: Balance at October 1, 2025 | D47: Additions | E47: Deductions | F47: Balance at September 30, 2026
B48: Land | C48: 0 | F48: =+C48+D48+E48 -> 0
B49: Buildings | C49: 0 | F49: =+C49+D49+E49 -> 0
B50: Total deferred inflows | C50: =SUM(C48:C49) -> 0 | D50: =SUM(D48:D49) -> 0 | E50: =SUM(E48:E49) -> 0 | F50: =SUM(F48:F49) -> 0
B53: Business-type Activities-PHT
C54: Balance at October 1, 2025 | D54: Additions | E54: Deductions | F54: Balance at September 30, 2026
B55: Land | C55: 0 | F55: =+C55+D55+E55 -> 0
...

Sheet Future lease rec
B1: Note: Please find your department below. If your department is not listed below, please add a table to report your balances.
B3: Govermental Activities
C4: Principal | D4: Interest | E4: Total
B5: Year ending September 30,
B6: 2027 | E6: =+C6+D6 -> 0
B7: 2028 | E7: =+C7+D7 -> 0
B8: 2029 | E8: =+C8+D8 -> 0
B9: 2030 | E9: =+C9+D9 -> 0
B10: 2031 | E10: =+C10+D10 -> 0
B11: 2032-2036 | E11: =+C11+D11 -> 0
B12: 2037-2041 | E12: =+C12+D12 -> 0
B13: 2042-2046 | E13: =+C13+D13 -> 0
B14: 2047-2051 | E14: =+C14+D14 -> 0
B15: 2052-2056 | E15: =+C15+D15 -> 0
B16: 2057-2061 | E16: =+C16+D16 -> 0
B17: 2062-2066 | E17: =+C17+D17 -> 0
B18: 2067-2071 | E18: =+C18+D18 -> 0
B19: 2072-2076 | E19: =+C19+D19 -> 0
B20: 2077-2081 | E20: =+C20+D20 -> 0
B21: 2082-2086 | E21: =+C21+D21 -> 0
B22: 2087-2091 | E22: =+C22+D22 -> 0
... B27: 2112-2116 | E27: =+C27+D27 -> 0
C28: =SUM(C6:C27) -> 0 | D28: =SUM(D6:D27) -> 0 | E28: =SUM(E6:E27) -> 0
B30: Govermental Activities
C31: Principal | D31: Interest | E31: Total
B32: Year ending September 30,
B33: 2027 | C33: =C6/1000 -> 0 | D33: =D6/1000 -> 0 | E33: =+C33+D33 -> 0
B34: 2028 | C34: =C7/1000 -> 0 | D34: =D7/1000 -> 0 | E34: =+C34+D34 -> 0
B35: 2029 | C35: =C8/1000 -> 0 | D35: =D8/1000 -> 0 | E35: =+C35+D35 -> 0
B36: 2030 | C36: =C9/1000 -> 0 | D36: =D9/1000 -> 0 | E36: =+C36+D36 -> 0
B37: 2031 | C37: =C10/1000 -> 0 | D37: =D10/1000 -> 0 | E37: =+C37+D37 -> 0
B38: 2032-2036 | C38: =C11/1000 -> 0 | D38: =D11/1000 -> 0 | E38: =+C38+D38 -> 0
B39: 2037-2041 | C39: =C12/1000 -> 0 | D39: =D12/1000 -> 0 | E39: =+C39+D39 -> 0
B40: 2042-2046 | C40: =C13/1000 -> 0 | D40: =D13/1000 -> 0 | E40: =+C40+D40 -> 0
B41: 2047-2051 | C41: =C14/1000 -> 0 | D41: =D14/1000 -> 0 | E41: =+C41+D41 -> 0
B42: 2052-2056 | C42: =C15/1000 -> 0 | D42: =D15/1000 -> 0 | E42: =+C42+D42 -> 0
B43: 2057-2061 | C43: =C16/1000 -> 0 | D43: =D16/1000 -> 0 | E43: =+C43+D43 -> 0
B44: 2062-2066 | C44: =C17/1000 -> 0 | D44: =D17/1000 -> 0 | E44: =+C44+D44 -> 0
B45: 2067-2071 | C45: =C18/1000 -> 0 | D45: =D18/1000 -> 0 | E45: =+C45+D45 -> 0
B46: 2072-2076 | C46: =C19/1000 -> 0 | D46: =D19/1000 -> 0 | E46: =+C46+D46 -> 0
...
